BEGIN:VCALENDAR
VERSION:2.0
PRODID:-//Volksschule Gutau - ECPv5.4.0.2//NONSGML v1.0//EN
CALSCALE:GREGORIAN
METHOD:PUBLISH
X-WR-CALNAME:Volksschule Gutau
X-ORIGINAL-URL:https://www.vs-gutau.at
X-WR-CALDESC:Veranstaltungen für Volksschule Gutau
BEGIN:VTIMEZONE
TZID:Europe/Vienna
BEGIN:DAYLIGHT
TZOFFSETFROM:+0100
TZOFFSETTO:+0200
TZNAME:CEST
DTSTART:20250330T010000
END:DAYLIGHT
BEGIN:STANDARD
TZOFFSETFROM:+0200
TZOFFSETTO:+0100
TZNAME:CET
DTSTART:20251026T010000
END:STANDARD
END:VTIMEZONE
BEGIN:VEVENT
DTSTART;VALUE=DATE:20250305
DTEND;VALUE=DATE:20250306
DTSTAMP:20260421T221616
CREATED:20241016T082937Z
LAST-MODIFIED:20241016T082937Z
UID:7202-1741132800-1741219199@www.vs-gutau.at
SUMMARY:Mein Körper gehört mir
DESCRIPTION:für die Kinder der 3. und 4. Klassen
URL:https://www.vs-gutau.at/event/mein-koerper-gehoert-mir-5/
END:VEVENT
END:VCALENDAR