BEGIN:VCALENDAR
VERSION:2.0
PRODID:-//Volksschule Gutau - ECPv5.4.0.2//NONSGML v1.0//EN
CALSCALE:GREGORIAN
METHOD:PUBLISH
X-WR-CALNAME:Volksschule Gutau
X-ORIGINAL-URL:https://www.vs-gutau.at
X-WR-CALDESC:Veranstaltungen für Volksschule Gutau
BEGIN:VTIMEZONE
TZID:Europe/Vienna
BEGIN:DAYLIGHT
TZOFFSETFROM:+0100
TZOFFSETTO:+0200
TZNAME:CEST
DTSTART:20260329T010000
END:DAYLIGHT
BEGIN:STANDARD
TZOFFSETFROM:+0200
TZOFFSETTO:+0100
TZNAME:CET
DTSTART:20261025T010000
END:STANDARD
END:VTIMEZONE
BEGIN:VEVENT
DTSTART;VALUE=DATE:20260527
DTEND;VALUE=DATE:20260530
DTSTAMP:20260419T154946
CREATED:20250917T183751Z
LAST-MODIFIED:20250917T183751Z
UID:7389-1779840000-1780099199@www.vs-gutau.at
SUMMARY:Projekttage - 4. Klasse
DESCRIPTION:
URL:https://www.vs-gutau.at/event/projekttage-4-klasse/
END:VEVENT
END:VCALENDAR